BEGIN:VCALENDAR
PRODID:-//kirchenweb.ch gmbh//veranstaltungsausgabe v2.0//DE
VERSION:2.0
METHOD:PUBLISH
BEGIN:VEVENT
DTSTART:20261129T090000Z
DTEND:20261129T100000Z
LOCATION:Gemeindehaus Stephanus\, Furkastrasse 12\, 4054 Basel
TRANSP:OPAQUE
SEQUENCE:0
UID:226019-veranstaltung@erk-bs.ch
DTSTAMP:20260323T172855Z
DESCRIPTION:Kontakt: Esther Maria Meyer\n\nWeitere Infos:
  https://www.erk-bs.ch/veranstaltung/226019
SUMMARY:Stephanus: Gottesdienst
PRIORITY:5
X-MICROSOFT-CDO-IMPORTANCE:1
CLASS:PUBLIC
END:VEVENT
END:VCALENDAR
