BEGIN:VCALENDAR
PRODID:-//kirchenweb.ch gmbh//veranstaltungsausgabe v2.0//DE
VERSION:2.0
METHOD:PUBLISH
BEGIN:VEVENT
DTSTART:20261129T090000Z
DTEND:20261129T100000Z
LOCATION:Peterskirche\, Peterskirchplatz 7\, 4051 Basel
TRANSP:OPAQUE
SEQUENCE:0
UID:226020-veranstaltung@erk-bs.ch
DTSTAMP:20260323T172856Z
DESCRIPTION:Kontakt: Simone Wolf\n\nWeitere Infos:
  https://www.erk-bs.ch/veranstaltung/226020
SUMMARY:St. Peter: Gottesdienst
PRIORITY:5
X-MICROSOFT-CDO-IMPORTANCE:1
CLASS:PUBLIC
END:VEVENT
END:VCALENDAR
