BEGIN:VCALENDAR
PRODID:-//kirchenweb.ch gmbh//veranstaltungsausgabe v2.0//DE
VERSION:2.0
METHOD:PUBLISH
BEGIN:VEVENT
DTSTART:20260423T071500Z
DTEND:20260423T080000Z
LOCATION:Andreashaus\, Keltenweg 41\, 4125 Riehen
TRANSP:OPAQUE
SEQUENCE:0
UID:226035-veranstaltung@erk-bs.ch
DTSTAMP:20260324T080457Z
DESCRIPTION:Kontakt: Suzanne Schmidt\n\nWeitere Infos:
  https://www.erk-bs.ch/veranstaltung/226035
SUMMARY:Sitzgymnastik
PRIORITY:5
X-MICROSOFT-CDO-IMPORTANCE:1
CLASS:PUBLIC
END:VEVENT
END:VCALENDAR
