BEGIN:VCALENDAR
PRODID:-//kirchenweb.ch gmbh//veranstaltungsausgabe v2.0//DE
VERSION:2.0
METHOD:PUBLISH
BEGIN:VEVENT
DTSTART:20260501T060000Z
DTEND:20260501T100000Z
LOCATION:Andreashaus\, Keltenweg 41\, 4125 Riehen
TRANSP:OPAQUE
SEQUENCE:0
UID:226100-veranstaltung@erk-bs.ch
DTSTAMP:20260324T145543Z
DESCRIPTION:Kontakt: Simeon Eugster\n\nWeitere Infos:
  https://www.erk-bs.ch/veranstaltung/226100
SUMMARY:Spielgruppe Muggeli
PRIORITY:5
X-MICROSOFT-CDO-IMPORTANCE:1
CLASS:PUBLIC
END:VEVENT
END:VCALENDAR
