BEGIN:VCALENDAR
PRODID:-//kirchenweb.ch gmbh//veranstaltungsausgabe v2.0//DE
VERSION:2.0
METHOD:PUBLISH
BEGIN:VEVENT
DTSTART:20270811T073000Z
DTEND:20270811T103000Z
LOCATION:Zwinglihaus\, Gundeldingerstrasse 370\, 4053 Basel
TRANSP:OPAQUE
SEQUENCE:0
UID:226155-veranstaltung@erk-bs.ch
DTSTAMP:20260325T100328Z
DESCRIPTION:Kontakt: Armin Marggraf\n\nWeitere Infos:
  https://www.erk-bs.ch/veranstaltung/226155
SUMMARY:Open Pedal (prov.)
PRIORITY:5
X-MICROSOFT-CDO-IMPORTANCE:1
CLASS:PUBLIC
END:VEVENT
END:VCALENDAR
