BEGIN:VCALENDAR
PRODID:-//kirchenweb.ch gmbh//veranstaltungsausgabe v2.0//DE
VERSION:2.0
METHOD:PUBLISH
BEGIN:VEVENT
DTSTART:20260506T173000Z
DTEND:20260506T190000Z
LOCATION:Andreashaus\, Keltenweg 41\, 4125 Riehen
TRANSP:OPAQUE
SEQUENCE:0
UID:226166-veranstaltung@erk-bs.ch
DTSTAMP:20260413T083755Z
DESCRIPTION:Benefizkonzert für die Pfarrstelle Kornfeld-Andreas \nThomas
  Brodtbeck\, Musiker und Organist\, beglückt uns am Mittwoch\, 6. Mai\,
  19.30 Uhr mit einem Frühlingskonzert auf dem wohlklingenden Flügel im
  Andreashaus. Anhand einer Reihe von Klavierpoesien der Romantik werden
  wir die vielfältigen Aspekte der Natur- und Seelenstimmungen des
  Frühlings mit Kommentaren nachvollziehen und miterleben. Wir tauchen ein
  in Klangwelten von Dvořák\, Grieg\, Huber\, Ireland\, Mendelssohn\,
  Sinding\, Tschaikowski\, Vierne.\nDas Konzert mit anschliessendem kleinem
  Apéro und Austausch\, auch mit Pfrn. Emanuelle Dobler\, wird organisiert
  von der Projektgruppe «Pfarrstelle Kornfeld-Andreas». Für bereits
  aktive SpenderInnen soll es ein grosser Dank sein\, für solche\, die es
  noch nicht sind\, eine Aufmunterung\, es zu werden!\nText: Annekäthi
  Heitz\n\n\nKontakt: Suzanne Schmidt\n\nWeitere Infos:
  https://www.erk-bs.ch/veranstaltung/226166
SUMMARY:Frühlingskonzert mit Thomas Brodtbeck
PRIORITY:5
X-MICROSOFT-CDO-IMPORTANCE:1
CLASS:PUBLIC
END:VEVENT
END:VCALENDAR
