BEGIN:VCALENDAR
PRODID:-//kirchenweb.ch gmbh//veranstaltungsausgabe v2.0//DE
VERSION:2.0
METHOD:PUBLISH
BEGIN:VEVENT
DTSTART:20261025T090000Z
DTEND:20261025T100000Z
LOCATION:Pauluskirche\, \,
TRANSP:OPAQUE
SEQUENCE:0
UID:226240-veranstaltung@erk-bs.ch
DTSTAMP:20260325T172513Z
DESCRIPTION:Kontakt: Rebekka Scartazzini und Lukas Kundert\n\nWeitere
  Infos: https://www.erk-bs.ch/veranstaltung/226240
SUMMARY:Gottesdienst zum 100jährigen Bestehen der Pauluskirche
PRIORITY:5
X-MICROSOFT-CDO-IMPORTANCE:1
CLASS:PUBLIC
END:VEVENT
END:VCALENDAR
