BEGIN:VCALENDAR
PRODID:-//kirchenweb.ch gmbh//veranstaltungsausgabe v2.0//DE
VERSION:2.0
METHOD:PUBLISH
BEGIN:VEVENT
DTSTART:20270114T110000Z
DTEND:20270114T112000Z
LOCATION:Münster\, Münsterplatz 9\, 4051 Basel
TRANSP:OPAQUE
SEQUENCE:0
UID:226454-veranstaltung@erk-bs.ch
DTSTAMP:20260327T131533Z
DESCRIPTION:Gebetszeiten - Mittagsgebete \nInnehalten im Münster\, zu
  Stille und Gebet am Mittag.\n\n\nKontakt: sandra.schmied@erk-bs.ch\n
 \nWeitere Infos: https://www.erk-bs.ch/veranstaltung/226454
SUMMARY:Mittagsgebet
PRIORITY:5
X-MICROSOFT-CDO-IMPORTANCE:1
CLASS:PUBLIC
END:VEVENT
END:VCALENDAR
