BEGIN:VCALENDAR
PRODID:-//kirchenweb.ch gmbh//veranstaltungsausgabe v2.0//DE
VERSION:2.0
METHOD:PUBLISH
BEGIN:VEVENT
DTSTART:20270121T060500Z
DTEND:20270121T063000Z
LOCATION:Katharinakapelle\, Kreuzgang\, Münsterplatz 9\, 4051 Basel
TRANSP:OPAQUE
SEQUENCE:0
UID:226716-veranstaltung@erk-bs.ch
DTSTAMP:20260327T131955Z
DESCRIPTION:Kontakt: Sr. Esther\n\nWeitere Infos:
  https://www.erk-bs.ch/veranstaltung/226716
SUMMARY:Morgengebet
PRIORITY:5
X-MICROSOFT-CDO-IMPORTANCE:1
CLASS:PUBLIC
END:VEVENT
END:VCALENDAR
