BEGIN:VCALENDAR
PRODID:-//kirchenweb.ch gmbh//veranstaltungsausgabe v2.0//DE
VERSION:2.0
METHOD:PUBLISH
BEGIN:VEVENT
DTSTART:20271129T150000Z
DTEND:20271129T163000Z
LOCATION:Münster\, Münsterplatz 9\, 4051 Basel
TRANSP:OPAQUE
SEQUENCE:0
UID:226956-veranstaltung@erk-bs.ch
DTSTAMP:20260327T132315Z
DESCRIPTION:Nächtliche Turmbesteigung von 16.00 Uhr bis 17.30 Uhr\,
  Eintritt CHF 6.- pro Person\, Kinder unter 14 J. frei.\nEinlass in
  Gruppen ab 2 Personen\n\nKontakt: Sandra Kuwartowski\n\nWeitere Infos:
  https://www.erk-bs.ch/veranstaltung/226956
SUMMARY:Nächtliche Turmbesteigung
PRIORITY:5
X-MICROSOFT-CDO-IMPORTANCE:1
CLASS:PUBLIC
END:VEVENT
END:VCALENDAR
