BEGIN:VCALENDAR
PRODID:-//kirchenweb.ch gmbh//veranstaltungsausgabe v2.0//DE
VERSION:2.0
METHOD:PUBLISH
BEGIN:VEVENT
DTSTART:20271231T223000Z
DTEND:20271231T225500Z
LOCATION:Münsterplatz\, Münsterplatz\, 4051 Basel
TRANSP:OPAQUE
SEQUENCE:0
UID:227638-veranstaltung@erk-bs.ch
DTSTAMP:20260330T073927Z
DESCRIPTION:Jahresausklang mit Bläsern des Stadtposaunenchors\,
  Münsterglocken und Gesang\n\nKontakt: sandra.schmied@erk-bs.ch\n
 \nWeitere Infos: https://www.erk-bs.ch/veranstaltung/227638
SUMMARY:Jahresausklang
PRIORITY:5
X-MICROSOFT-CDO-IMPORTANCE:1
CLASS:PUBLIC
END:VEVENT
END:VCALENDAR
