BEGIN:VCALENDAR
PRODID:-//kirchenweb.ch gmbh//veranstaltungsausgabe v2.0//DE
VERSION:2.0
METHOD:PUBLISH
BEGIN:VEVENT
DTSTART:20270619T143000Z
DTEND:20270619T144500Z
LOCATION:vom Turm oder im Kreuzgang\, Münsterplatz 9\, 4051 Basel
TRANSP:OPAQUE
SEQUENCE:0
UID:227737-veranstaltung@erk-bs.ch
DTSTAMP:20260330T074630Z
DESCRIPTION:Kontakt: Phillip Boyle\n\nWeitere Infos:
  https://www.erk-bs.ch/veranstaltung/227737
SUMMARY:Vesperblasen des Stadtposaunenchors
PRIORITY:5
X-MICROSOFT-CDO-IMPORTANCE:1
CLASS:PUBLIC
END:VEVENT
END:VCALENDAR
