BEGIN:VCALENDAR
PRODID:-//kirchenweb.ch gmbh//veranstaltungsausgabe v2.0//DE
VERSION:2.0
METHOD:PUBLISH
BEGIN:VEVENT
DTSTART:20271120T153000Z
DTEND:20271120T154500Z
LOCATION:vom Turm oder im Kreuzgang\, Münsterplatz 9\, 4051 Basel
TRANSP:OPAQUE
SEQUENCE:0
UID:227759-veranstaltung@erk-bs.ch
DTSTAMP:20260330T074636Z
DESCRIPTION:Kontakt: Phillip Boyle\n\nWeitere Infos:
  https://www.erk-bs.ch/veranstaltung/227759
SUMMARY:Vesperblasen des Stadtposaunenchors
PRIORITY:5
X-MICROSOFT-CDO-IMPORTANCE:1
CLASS:PUBLIC
END:VEVENT
END:VCALENDAR
