BEGIN:VCALENDAR
PRODID:-//kirchenweb.ch gmbh//veranstaltungsausgabe v2.0//DE
VERSION:2.0
METHOD:PUBLISH
BEGIN:VEVENT
DTSTART;VALUE=DATE:20260502
DTEND;VALUE=DATE:20260503
LOCATION:Bern\, \,
TRANSP:OPAQUE
SEQUENCE:0
UID:227799-veranstaltung@erk-bs.ch
DTSTAMP:20260330T092646Z
DESCRIPTION:Von ganzen Herzen. Aus voller Kehle. Für alle.\n\nProgramm: 
 \nAcht Workshops und zum Abschluss ein grosser Singgottesdienst in der
  Berner Heiliggeistkirche. \n\nGemeinsame Hin- und Rückreise; für das
  Zugbillett und die Verpflegung ist jeder selbst besorgt. \n\nTreffpunkt:
  8.45 Uhr beim Treffpunkt Bahnhofshalle SBB \n\nKontakt:
  esther.mueller-kb@erk-bs.ch\n\nWeitere Infos:
  https://www.erk-bs.ch/veranstaltung/227799
SUMMARY:Singtag!
PRIORITY:5
X-MICROSOFT-CDO-IMPORTANCE:1
CLASS:PUBLIC
END:VEVENT
END:VCALENDAR
