BEGIN:VCALENDAR
PRODID:-//kirchenweb.ch gmbh//veranstaltungsausgabe v2.0//DE
VERSION:2.0
METHOD:PUBLISH
BEGIN:VEVENT
DTSTART:20260520T163000Z
DTEND:20260520T173000Z
LOCATION:Dorfkirche Kleinhüningen\, \,
TRANSP:OPAQUE
SEQUENCE:0
UID:227879-veranstaltung@erk-bs.ch
DTSTAMP:20260330T133341Z
DESCRIPTION:Die sozialdiakonischen Angebote der Kirchgemeinde Kleinbasel
  stehen allen offen – unter anderen dank der Beiträge des
  Fördervereins. Gemeinsam lassen wir an der öffentlichen
  Vereinsversammlung die Momente Revue passieren\, die im 2025 ermöglicht
  wurden und tauschen uns darüber aus\, wo künftig Engagement nötig ist.
  Alle Interessierten sind herzlich eingeladen! \n\nKontakt:
  esther.mueller-kb@erk-bs.ch\n\nWeitere Infos:
  https://www.erk-bs.ch/veranstaltung/227879
SUMMARY:„Schöne Momente möglich machen“: öffentliche
  Vereinsversammlung des Fördervereins „Kleinbasel – Kirche für
  alle“ mit Bericht und Ausblick
PRIORITY:5
X-MICROSOFT-CDO-IMPORTANCE:1
CLASS:PUBLIC
END:VEVENT
END:VCALENDAR
