BEGIN:VCALENDAR
PRODID:-//kirchenweb.ch gmbh//veranstaltungsausgabe v2.0//DE
VERSION:2.0
METHOD:PUBLISH
BEGIN:VEVENT
DTSTART:20260508T161500Z
DTEND:20260508T164500Z
LOCATION:Leonhardskirche\, Leonhardskirchplatz\, 4051 Basel
TRANSP:OPAQUE
SEQUENCE:0
UID:227913-veranstaltung@erk-bs.ch
DTSTAMP:20260401T133159Z
DESCRIPTION:An der Orgel spielt Alina Wyer\, Visp. Eintritt frei -
  Kollekte\n\nWerke von J. S. Bach\, J. P. Sweelinck\, S. Scheidt\, W.
  Byrd\, G. Ligeti\n\n\nKontakt: Susanne Doll\n\nWeitere Infos:
  https://www.erk-bs.ch/veranstaltung/227913
SUMMARY:Orgelspiel zum Feierabend
PRIORITY:5
X-MICROSOFT-CDO-IMPORTANCE:1
CLASS:PUBLIC
END:VEVENT
END:VCALENDAR
