BEGIN:VCALENDAR
PRODID:-//kirchenweb.ch gmbh//veranstaltungsausgabe v2.0//DE
VERSION:2.0
METHOD:PUBLISH
BEGIN:VEVENT
DTSTART:20260515T161500Z
DTEND:20260515T164500Z
LOCATION:Leonhardskirche\, Leonhardskirchplatz\, 4051 Basel
TRANSP:OPAQUE
SEQUENCE:0
UID:227914-veranstaltung@erk-bs.ch
DTSTAMP:20260401T133243Z
DESCRIPTION:An der Orgel spielt Gabriele Martin\, SCB. Eintritt frei -
  Kollekte\n\nWerke von J. G: Walther\, J. P. Sweelinck\,\nW. A. Mozart\,
  J. S. Bach\n\n\nKontakt: Susanne Doll\n\nWeitere Infos:
  https://www.erk-bs.ch/veranstaltung/227914
SUMMARY:Orgelspiel zum Feierabend
PRIORITY:5
X-MICROSOFT-CDO-IMPORTANCE:1
CLASS:PUBLIC
END:VEVENT
END:VCALENDAR
