BEGIN:VCALENDAR
PRODID:-//kirchenweb.ch gmbh//veranstaltungsausgabe v2.0//DE
VERSION:2.0
METHOD:PUBLISH
BEGIN:VEVENT
DTSTART:20260522T161500Z
DTEND:20260522T164500Z
LOCATION:Leonhardskirche\, Leonhardskirchplatz\, 4051 Basel
TRANSP:OPAQUE
SEQUENCE:0
UID:227915-veranstaltung@erk-bs.ch
DTSTAMP:20260401T133327Z
DESCRIPTION:An der Orgel spielt Adam Slimani\, SCB. Eintritt frei -
  Kollekte\n\nWerke von J. S. Bach\, F. C. de Arauxo\, D. Buxtehude\, F.
  Couperin\n\n\nKontakt: Susanne Doll\n\nWeitere Infos:
  https://www.erk-bs.ch/veranstaltung/227915
SUMMARY:Orgelspiel zum Feierabend
PRIORITY:5
X-MICROSOFT-CDO-IMPORTANCE:1
CLASS:PUBLIC
END:VEVENT
END:VCALENDAR
