BEGIN:VCALENDAR
PRODID:-//kirchenweb.ch gmbh//veranstaltungsausgabe v2.0//DE
VERSION:2.0
METHOD:PUBLISH
BEGIN:VEVENT
DTSTART:20260529T161500Z
DTEND:20260529T164500Z
LOCATION:Leonhardskirche\, Leonhardskirchplatz\, 4051 Basel
TRANSP:OPAQUE
SEQUENCE:0
UID:227916-veranstaltung@erk-bs.ch
DTSTAMP:20260401T133405Z
DESCRIPTION:An der Orgel spielt Benedikt Rudolf von Rohr\, Basel. Eintritt
  frei - Kollekte\n\nWerke von V. A. Petrali\, G. Gherardeschi\,\nP. Davide
  da Bergamo\n\n\nKontakt: Susanne Doll\n\nWeitere Infos:
  https://www.erk-bs.ch/veranstaltung/227916
SUMMARY:Orgelspiel zum Feierabend
PRIORITY:5
X-MICROSOFT-CDO-IMPORTANCE:1
CLASS:PUBLIC
END:VEVENT
END:VCALENDAR
