BEGIN:VCALENDAR
PRODID:-//kirchenweb.ch gmbh//veranstaltungsausgabe v2.0//DE
VERSION:2.0
METHOD:PUBLISH
BEGIN:VEVENT
DTSTART:20260913T090000Z
DTEND:20260913T100000Z
LOCATION:Münster\, Münsterplatz 9\, 4051 Basel
TRANSP:OPAQUE
SEQUENCE:0
UID:228061-veranstaltung@erk-bs.ch
DTSTAMP:20260409T094608Z
DESCRIPTION:Wer sich einen persönlichen Segens-Zuspruch wünscht oder
  Gebet für ein besonderes Anliegen\, kann sich nach dem Gottesdienst in
  der Gebetskapelle einfinden (vorne rechts im Querschiff). Schwester
  Esther und weitere Personen aus dem Münsterhüsli-Umfeld sind dazu
  bereit. Dies gilt auch sonst - bitte sich im Münsterhüsli melden.
 \nKontakt: Sr. Esther Herren \nsr.esther.herren@diakonissen-riehen.ch\n
 \nWeitere Termine:\n\n \n\n\nKontakt: Sr. Esther Herren\n\nWeitere Infos:
  https://www.erk-bs.ch/veranstaltung/228061
SUMMARY:Segensgebet nach dem Gottesdienst
PRIORITY:5
X-MICROSOFT-CDO-IMPORTANCE:1
CLASS:PUBLIC
END:VEVENT
END:VCALENDAR
