BEGIN:VCALENDAR
PRODID:-//kirchenweb.ch gmbh//veranstaltungsausgabe v2.0//DE
VERSION:2.0
METHOD:PUBLISH
BEGIN:VEVENT
DTSTART:20260603T173000Z
DTEND:20260603T190000Z
LOCATION:Gemeindesaal\, Farnsburgerstrasse 58\, 4052 Basel
TRANSP:OPAQUE
SEQUENCE:0
UID:228086-veranstaltung@erk-bs.ch
DTSTAMP:20260413T085543Z
DESCRIPTION:Neu ausgerichtet\n\nWas meint die Bibel eigentlich mit
  "Busse"? An vier Abenden entdecken wir\, dass es dabei nicht um eine
  Drohung geht\, sondern um eine befreiende Chance: die Umkehr zu Gott.\n
 \nGemeinsam gehen wir der Frage nach\, wie ein radikaler Richtungswechsel
  des Herzens (Metanoia) unser Leben erneuert. Wir schauen uns an\, was den
  Unterschied ausmacht zwischen blossem Bedauern und echter Veränderung
  und wie Gottes Zusage der Vergebung uns im Alltag trägt.\n
 \nThemen-Highlights:\n\n- Umkehr im Alten und Neuen Testament: Vom Psalm
  51 bis zur Botschaft Jesu\n- Reue versus Busse: Warum echtes Umdenken
  befreit\n- Neuanfang: Leben aus der Kraft der Vergebung\n\nKommen Sie
  vorbei und entdecken Sie die Freude an der Neuausrichtung auf Gott!\n
 \n27. Mai / 3. Juni / 10. Juni / 17. Juni\n\n19:30 bis 21 Uhr an der
  Farnsburgerstrasse 58\n\n\nKontakt: Pfr. Dr. Stefan Burkhalter\n\nWeitere
  Infos: https://www.erk-bs.ch/veranstaltung/228086
SUMMARY:Bibelstudienabend
PRIORITY:5
X-MICROSOFT-CDO-IMPORTANCE:1
CLASS:PUBLIC
END:VEVENT
END:VCALENDAR
