BEGIN:VCALENDAR
PRODID:-//kirchenweb.ch gmbh//veranstaltungsausgabe v2.0//DE
VERSION:2.0
METHOD:PUBLISH
BEGIN:VEVENT
DTSTART:20260505T123000Z
DTEND:20260505T143000Z
LOCATION:Gemeindehaus Stephanus\, Furkastrasse 12\, 4054 Basel
TRANSP:OPAQUE
SEQUENCE:0
UID:228125-veranstaltung@erk-bs.ch
DTSTAMP:20260416T164046Z
DESCRIPTION:Haben Sie Lust\, bei einer Tasse Kaffee oder Tee und etwas
  Gebäck gemütlich zusammenzusitzen und mit anderen Menschen ins
  Gespräch zu kommen? Dann sind Sie im Kaffi.plus genau richtig! Hier ist
  jede und jeder willkommen – ganz ungezwungen und ohne Verpflichtung.
 \nAls „Plus“ gibt es ab und zu kleine Extras: spannende Gäste\,
  interessante Impulse\, Erzählrunden zu verschiedenen Themen und vieles
  mehr.\n\nDas „Plus“ im Mai? \nEine Pilgerreise nach Rom\nDie
  pensionierte Polizistin Franziska Schwitter nimmt Sie mit auf ihre
  Pilgerreise von Basel nach Rom und teilt mit uns ihre persönlichen
  Eindrücke und Bilder dieser Reise.\n\n5. MAI 2026 VON 14.30 - 16.30 UHR
 \nim Foyer des Gemeindehauses Stephanus Furkastrasse 12 (Tram 8 / Bus 36
  bis Neubad)\n\nKontakt: claudia.schulthess@erk-bs.ch\n\nWeitere Infos:
  https://www.erk-bs.ch/veranstaltung/228125
SUMMARY:Kaffi.plus Stephanus im Mai
PRIORITY:5
X-MICROSOFT-CDO-IMPORTANCE:1
CLASS:PUBLIC
END:VEVENT
END:VCALENDAR
