BEGIN:VCALENDAR
PRODID:-//kirchenweb.ch gmbh//veranstaltungsausgabe v2.0//DE
VERSION:2.0
METHOD:PUBLISH
BEGIN:VEVENT
DTSTART:20261011T093000Z
DTEND:20261011T123000Z
LOCATION:Gellertkirche\, Christoph Merian-Platz 5\, 4052 Basel
TRANSP:OPAQUE
SEQUENCE:0
UID:228134-veranstaltung@erk-bs.ch
DTSTAMP:20260417T084357Z
DESCRIPTION:Gemeindezmittag für alle Generationen im Anschluss an den
  Morgengottesdienst.\n
 \nhttps://gellert.elvanto.eu/form/ed72f12d-4093-40cc-b91e-6516f9e56535\n\n
 \nKontakt: monika.wetzel@erk-bs.ch\n\nWeitere Infos:
  https://www.erk-bs.ch/veranstaltung/228134
SUMMARY:Gemeindezmittag
PRIORITY:5
X-MICROSOFT-CDO-IMPORTANCE:1
CLASS:PUBLIC
END:VEVENT
END:VCALENDAR
