BEGIN:VCALENDAR
PRODID:-//kirchenweb.ch gmbh//veranstaltungsausgabe v2.0//DE
VERSION:2.0
METHOD:PUBLISH
BEGIN:VEVENT
DTSTART:20260429T170000Z
DTEND:20260429T180000Z
LOCATION:Theodorskirche\, Theodorskirchplatz 5\, 4058 Basel
TRANSP:OPAQUE
SEQUENCE:0
UID:228156-veranstaltung@erk-bs.ch
DTSTAMP:20260420T125457Z
DESCRIPTION:Das Duo spielt Werke von César Franck\, Maurice Ravel\,
  Alexander Glazunov\, Franz Schubert und Gabriel Fauré. \n\nFür eine
  musikalische Kostprobe\, klicken
  Siehttps://www.youtube.com/watch?v=DzoAPownjCY\n\nEintritt frei -
  Kollekte\n\n\n\nKontakt: Davide Maniscalco\n\nWeitere Infos:
  https://www.erk-bs.ch/veranstaltung/228156
SUMMARY:TheoSounds - Duo Pol Cabrera Plaza & Dmitry Batalov
PRIORITY:5
X-MICROSOFT-CDO-IMPORTANCE:1
CLASS:PUBLIC
END:VEVENT
END:VCALENDAR
