BEGIN:VCALENDAR
PRODID:-//kirchenweb.ch gmbh//veranstaltungsausgabe v2.0//DE
VERSION:2.0
METHOD:PUBLISH
BEGIN:VEVENT
DTSTART:20260514T113000Z
DTEND:20260514T123000Z
LOCATION:St-Léonard\, \,
TRANSP:OPAQUE
SEQUENCE:0
UID:228192-veranstaltung@erk-bs.ch
DTSTAMP:20260422T071439Z
DESCRIPTION:Kontakt: Paul Schalck\n\nWeitere Infos:
  https://www.erk-bs.ch/veranstaltung/228192
SUMMARY:Rallye linguistique à travers Bâle
PRIORITY:5
X-MICROSOFT-CDO-IMPORTANCE:1
CLASS:PUBLIC
END:VEVENT
END:VCALENDAR
