BEGIN:VCALENDAR
PRODID:-//kirchenweb.ch gmbh//veranstaltungsausgabe v2.0//DE
VERSION:2.0
METHOD:PUBLISH
BEGIN:VEVENT
DTSTART:20260513T100000Z
DTEND:20260513T160000Z
LOCATION:Theodorskirche\, Theodorskirchplatz 5\, 4058 Basel
TRANSP:OPAQUE
SEQUENCE:0
UID:228265-veranstaltung@erk-bs.ch
DTSTAMP:20260423T142650Z
DESCRIPTION:Offenes Haus\, Bistro\, Treffpunkt\, Ruheoase\, Spielecke\,...
 \n\nDie Theodorskirche ist Teil des lebendigen Theodorskirchplatzes.\nDie
  TheoBar\, die jeden Mittwoch von 12 - 18 Uhr (ausser in den Schulferien)
  ihre Türen öffnet\, lädt Kleine und Grosse ein zu Kaffee\, Sirup\,
  Spielen\, zum Reden oder Stillsein.\n\nLunch Sharing: jeweils um 12.15 
  Uhr \n\nEbenfalls während der TheoBar mittwochs (ausser Schulferien) 
 \nSozialberatung Kirchgemeinde Kleinbasel\nKontakt: Mirjam Baumann\n\n\n\n
 \n\n\nKontakt: esther.mueller-kb@erk-bs.ch\n\nWeitere Infos:
  https://www.erk-bs.ch/veranstaltung/228265
SUMMARY:TheoBar
PRIORITY:5
X-MICROSOFT-CDO-IMPORTANCE:1
CLASS:PUBLIC
END:VEVENT
END:VCALENDAR
