BEGIN:VCALENDAR
PRODID:-//kirchenweb.ch gmbh//veranstaltungsausgabe v2.0//DE
VERSION:2.0
METHOD:PUBLISH
BEGIN:VEVENT
DTSTART;VALUE=DATE:20180806
DTEND;VALUE=DATE:20180807
LOCATION:Münster\, Münsterplatz 9\, 4051 Basel
TRANSP:OPAQUE
SEQUENCE:0
UID:65053-veranstaltung@erk-bs.ch
DTSTAMP:20180627T092927Z
DESCRIPTION:Krone\, König\, Kamel\nIm diesjährige Kindertageslager
  erfahren die Kinder\, wie das Münstermüsli Timi eine kostbare Krone im
  Münster findet. Zusammen mit einem Kamel macht er sich auf die Suche
  nach dem Besitzer oder der Besitzerin der Krone. Im Münster sind
  nämlich einige Könige und Königinnen «zu Hause». \n\nFür Kinder im
  Alter von 5 bis 12 Jahren  \n(Das Programm findet zeitweise in
  altersspezifischen Gruppen statt.)\nMaximale Teilnehmerzahl: 25 Kinder\n
 \nVom 6. bis 10. August 2018\, jeweils von 9.00 bis 17.00 Uhr\nAm
  Freitag\, 10. August um 18.00 Uhr sind alle Eltern herzlich eingeladen zu
  einer Feier mit Eindrücken aus der Woche. An diesem Tag dauert das
  Programm für die Kinder bis 18.00 Uhr.\n\nKosten (inkl. Mittagessen):
  120.-\nGeschwisterrabatt für zwei/drei Kinder:  200.- / 280.-\nIn
  einzelnen Fällen sind individuelle Preise möglich.\n\nKontakt: Tabea
  Eugster-Schaetzle\, Sozialdiakonin\n\nWeitere Infos:
  https://www.erk-bs.ch/veranstaltung/65053
SUMMARY:Kindertageslager Basler Münster 6.-10.8.2018
PRIORITY:5
X-MICROSOFT-CDO-IMPORTANCE:1
CLASS:PUBLIC
END:VEVENT
END:VCALENDAR
