BEGIN:VCALENDAR
PRODID:-//kirchenweb.ch gmbh//veranstaltungsausgabe v2.0//DE
VERSION:2.0
METHOD:PUBLISH
BEGIN:VEVENT
DTSTART:20180805T080000Z
DTEND:20180805T090000Z
LOCATION:Peterskirche\, Peterskirchplatz 8\, 4051 Basel
TRANSP:OPAQUE
SEQUENCE:0
UID:82062-veranstaltung@erk-bs.ch
DTSTAMP:20180719T082851Z
DESCRIPTION:Kontakt: Pfarrer Benedict Schubert\n\nWeitere Infos:
  https://www.erk-bs.ch/veranstaltung/82062
SUMMARY:St. Peter: Gottesdienst
PRIORITY:5
X-MICROSOFT-CDO-IMPORTANCE:1
CLASS:PUBLIC
END:VEVENT
END:VCALENDAR
