BEGIN:VCALENDAR
PRODID:-//kirchenweb.ch gmbh//veranstaltungsausgabe v2.0//DE
VERSION:2.0
METHOD:PUBLISH
BEGIN:VEVENT
DTSTART:20180803T161500Z
DTEND:20180803T171500Z
LOCATION:Leonhardskirche\, Leonhardskirchplatz\, 4051 Basel
TRANSP:OPAQUE
SEQUENCE:0
UID:82340-veranstaltung@erk-bs.ch
DTSTAMP:20180531T082638Z
DESCRIPTION:Werke von O. Messiaen\, J. S. Bach\, P. Hindemith und N. de
  Grigny. An der Orgel spielt Maryna Pinchukova\, Weissrussland. Eintritt
  frei - Kollekte\n\nKontakt: Susanne Doll\n\nWeitere Infos:
  https://www.erk-bs.ch/veranstaltung/82340
SUMMARY:Orgelspiel zum Feierabend
PRIORITY:5
X-MICROSOFT-CDO-IMPORTANCE:1
CLASS:PUBLIC
END:VEVENT
END:VCALENDAR
