BEGIN:VCALENDAR
PRODID:-//kirchenweb.ch gmbh//veranstaltungsausgabe v2.0//DE
VERSION:2.0
METHOD:PUBLISH
BEGIN:VEVENT
DTSTART:20180809T130000Z
DTEND:20180809T140000Z
LOCATION:Generationenhaus Neubad\, Holeestrasse 119\, 4054 Basel
TRANSP:OPAQUE
SEQUENCE:0
UID:82669-veranstaltung@erk-bs.ch
DTSTAMP:20180613T060600Z
DESCRIPTION:Angelika Löhrer\, RKK\n\nKontakt: Pastoralassistentin
  Angelika Löhrer\, RKK\n\nWeitere Infos:
  https://www.erk-bs.ch/veranstaltung/82669
SUMMARY:Ökumenischer Gottesdienst
PRIORITY:5
X-MICROSOFT-CDO-IMPORTANCE:1
CLASS:PUBLIC
END:VEVENT
END:VCALENDAR
