BEGIN:VCALENDAR
PRODID:-//kirchenweb.ch gmbh//veranstaltungsausgabe v2.0//DE
VERSION:2.0
METHOD:PUBLISH
BEGIN:VEVENT
DTSTART:20180805T160000Z
DTEND:20180805T170000Z
LOCATION:Pauluskirche\, Steinenring 20\, 4051 Basel
TRANSP:OPAQUE
SEQUENCE:0
UID:83043-veranstaltung@erk-bs.ch
DTSTAMP:20180628T161417Z
DESCRIPTION:Pfarrer Matthias Mittelbach\n\nKontakt: Matthias Mittelbach\n
 \nWeitere Infos: https://www.erk-bs.ch/veranstaltung/83043
SUMMARY:Sonntagabend in der Pauluskirche
PRIORITY:5
X-MICROSOFT-CDO-IMPORTANCE:1
CLASS:PUBLIC
END:VEVENT
END:VCALENDAR
