BEGIN:VCALENDAR
PRODID:-//kirchenweb.ch gmbh//veranstaltungsausgabe v2.0//DE
VERSION:2.0
METHOD:PUBLISH
BEGIN:VEVENT
DTSTART:20180806T101500Z
DTEND:20180806T104500Z
LOCATION:St. Peterskirche\, Peterskirchplatz 8\, 4051 Basel
TRANSP:OPAQUE
SEQUENCE:0
UID:83061-veranstaltung@erk-bs.ch
DTSTAMP:20180627T140239Z
DESCRIPTION:Kontakt: Jrene Mundwyler\n\nWeitere Infos:
  https://www.erk-bs.ch/veranstaltung/83061
SUMMARY:Taizégebet/Éleos
PRIORITY:5
X-MICROSOFT-CDO-IMPORTANCE:1
CLASS:PUBLIC
END:VEVENT
END:VCALENDAR
