BEGIN:VCALENDAR
PRODID:-//kirchenweb.ch gmbh//veranstaltungsausgabe v2.0//DE
VERSION:2.0
METHOD:PUBLISH
BEGIN:VEVENT
DTSTART:20180809T161500Z
DTEND:20180809T164500Z
LOCATION:St. Peterskirche\, Peterskirchplatz 8\, 4051 Basel
TRANSP:OPAQUE
SEQUENCE:0
UID:83062-veranstaltung@erk-bs.ch
DTSTAMP:20180627T140502Z
DESCRIPTION:Kontakt: Jrene Mundwyler\n\nWeitere Infos:
  https://www.erk-bs.ch/veranstaltung/83062
SUMMARY:Taizégebet/Éleos
PRIORITY:5
X-MICROSOFT-CDO-IMPORTANCE:1
CLASS:PUBLIC
END:VEVENT
END:VCALENDAR
