BEGIN:VCALENDAR
PRODID:-//kirchenweb.ch gmbh//veranstaltungsausgabe v2.0//DE
VERSION:2.0
METHOD:PUBLISH
BEGIN:VEVENT
DTSTART:20180805T170700Z
DTEND:20180805T183000Z
LOCATION:Gellertkirche\, Christoph Merian-Platz 5\, 4052 Basel
TRANSP:OPAQUE
SEQUENCE:0
UID:83171-veranstaltung@erk-bs.ch
DTSTAMP:20180628T093113Z
DESCRIPTION:Gottesdienst feiern mit Worship-Band\, lebensnaher Predigt
  (Mundart)\, Interviews und kreativen Beiträgen\, Moderation und
  Gebets-Angebot. \nDas Bistro lädt mit Getränken und Imbiss-Angeboten
  zu Begegnung und Austausch ein. \n\nKontakt: Philipp Zahn\n\nWeitere
  Infos: https://www.erk-bs.ch/veranstaltung/83171
SUMMARY:7.07-Abendgottesdienst
PRIORITY:5
X-MICROSOFT-CDO-IMPORTANCE:1
CLASS:PUBLIC
END:VEVENT
END:VCALENDAR
