BEGIN:VCALENDAR
PRODID:-//kirchenweb.ch gmbh//veranstaltungsausgabe v2.0//DE
VERSION:2.0
METHOD:PUBLISH
BEGIN:VEVENT
DTSTART:20180805T184500Z
DTEND:20180805T194500Z
LOCATION:Gellertkirche\, Christoph Merian-Platz 5\, 4052 Basel
TRANSP:OPAQUE
SEQUENCE:0
UID:85081-veranstaltung@erk-bs.ch
DTSTAMP:20180802T144612Z
DESCRIPTION:Im Gegensatz zum segnenden und fürbittenden Gebet nehmen wir
  uns 15 Minuten Zeit\, um in der Stille und im Hören auf Gott einzelne
  Menschen zu begleiten. Da die Plätze limitiert sind\, lohnt es sich\,
  sich im Vorfeld anzumelden: www.gellertkirche.ch/angebote/gebet oder 
  gebet@gellertkirche.ch \n\nKontakt: Urs Stricker\n\nWeitere Infos:
  https://www.erk-bs.ch/veranstaltung/85081
SUMMARY:Hörendes Gebet - 7.07
PRIORITY:5
X-MICROSOFT-CDO-IMPORTANCE:1
CLASS:PUBLIC
END:VEVENT
END:VCALENDAR
