BEGIN:VCALENDAR
PRODID:-//kirchenweb.ch gmbh//veranstaltungsausgabe v2.0//DE
VERSION:2.0
METHOD:PUBLISH
BEGIN:VEVENT
DTSTART:20180806T050500Z
DTEND:20180806T053000Z
LOCATION:Katharinakapelle\, Kreuzgang\, Münsterplatz 9\, 4051 Basel
TRANSP:OPAQUE
SEQUENCE:0
UID:86348-veranstaltung@erk-bs.ch
DTSTAMP:20180813T075030Z
DESCRIPTION:Kontakt: Sr. Esther\n\nWeitere Infos:
  https://www.erk-bs.ch/veranstaltung/86348
SUMMARY:Morgengebet
PRIORITY:5
X-MICROSOFT-CDO-IMPORTANCE:1
CLASS:PUBLIC
END:VEVENT
END:VCALENDAR
